BEGIN:VCALENDAR
VERSION:2.0
PRODID:-//İstasyon Kuşadası - ECPv6.0.4//NONSGML v1.0//EN
CALSCALE:GREGORIAN
METHOD:PUBLISH
X-WR-CALNAME:İstasyon Kuşadası
X-ORIGINAL-URL:https://kusadasiistasyon.org
X-WR-CALDESC:Events for İstasyon Kuşadası
REFRESH-INTERVAL;VALUE=DURATION:PT1H
X-Robots-Tag:noindex
X-PUBLISHED-TTL:PT1H
BEGIN:VTIMEZONE
TZID:Europe/Istanbul
BEGIN:STANDARD
TZOFFSETFROM:+0300
TZOFFSETTO:+0300
TZNAME:+03
DTSTART:20230101T000000
END:STANDARD
END:VTIMEZONE
BEGIN:VEVENT
DTSTART;TZID=Europe/Istanbul:20230201T130000
DTEND;TZID=Europe/Istanbul:20230201T150000
DTSTAMP:20260424T002533
CREATED:20230130T123202Z
LAST-MODIFIED:20230130T123204Z
UID:480-1675256400-1675263600@kusadasiistasyon.org
SUMMARY:Çevre Bilinci ve Afet Farkındalığı Eğitimi
DESCRIPTION:Çevre Bilinci ve Afet Farkındalığı Eğitimi \n\n\n\nÇevre bilinci ve afet farkındalığı eğitimimize katılarak\,içinde bulunduğunuz Dünya’ya karşı bireysel ve toplumsal sorumluluklarınız hakkında farkındalık kazanabilirsiniz. \n\n\n\nAfet eğitimiyle birlikte afetlere karşı bilinçli olarak afet öncesinde\, afet sırasında ve afet sonrasında neler yapılması gerektiği ile ilgili bilgiler edinebilirsiniz. \n\n\n\nEğitimimiz 7-14 yaş arasındaki bireyler içindir. \n\n\n\n \n\n\n\n\nBAŞVUR
URL:https://kusadasiistasyon.org/etkinlik/cevre-bilinci-ve-afet-farkindaligi-egitimi/
ATTACH;FMTTYPE=image/png:https://kusadasiistasyon.org/wp-content/uploads/2023/01/Afet-Farkindaligi.png
END:VEVENT
END:VCALENDAR