BEGIN:VCALENDAR
VERSION:2.0
PRODID:-//İstasyon Kuşadası - ECPv6.0.4//NONSGML v1.0//EN
CALSCALE:GREGORIAN
METHOD:PUBLISH
X-WR-CALNAME:İstasyon Kuşadası
X-ORIGINAL-URL:https://kusadasiistasyon.org
X-WR-CALDESC:Events for İstasyon Kuşadası
REFRESH-INTERVAL;VALUE=DURATION:PT1H
X-Robots-Tag:noindex
X-PUBLISHED-TTL:PT1H
BEGIN:VTIMEZONE
TZID:Europe/Istanbul
BEGIN:STANDARD
TZOFFSETFROM:+0300
TZOFFSETTO:+0300
TZNAME:+03
DTSTART:20220101T000000
END:STANDARD
END:VTIMEZONE
BEGIN:VEVENT
DTSTART;TZID=Europe/Istanbul:20220402T140000
DTEND;TZID=Europe/Istanbul:20220402T160000
DTSTAMP:20260424T085543
CREATED:20220323T150356Z
LAST-MODIFIED:20220402T091116Z
UID:443-1648908000-1648915200@kusadasiistasyon.org
SUMMARY:Metaverse ve NFT
DESCRIPTION:Dünyada yeni bir sanal çağın başladığının farkındasınız fakat Metaverse ve NFT gibi bu yeni çağın bize kazandırdığı kavramları anlamlandıramıyor musunuz? \n\n\n\n2 Nisan Cumartesi günü Sayın Dr. Erdem Erkul’un İstasyon Kuşadası’nda vereceği ‘Metaverse ve NFT nedir?’ adlı panele katılarak sorularınızın cevaplarını bulabilir ve Metaverse evrenini deneyimleme fırsatına sahip olabilirsiniz. \n\n\n\nYer: İstasyon Kuşadası \n\n\n\n \n\n\n\n\nBAŞVUR
URL:https://kusadasiistasyon.org/etkinlik/metaverse-ve-nft/
CATEGORIES:Panel,Teknoloji
ATTACH;FMTTYPE=image/png:https://kusadasiistasyon.org/wp-content/uploads/2022/03/Metaverse-1.png
END:VEVENT
END:VCALENDAR